BEGIN:VCALENDAR
VERSION:2.0
PRODID:-//PDIADI | National Driving Instructor Development - ECPv6.2.2//NONSGML v1.0//EN
CALSCALE:GREGORIAN
METHOD:PUBLISH
X-WR-CALNAME:PDIADI | National Driving Instructor Development
X-ORIGINAL-URL:https://pdiadi.com
X-WR-CALDESC:Events for PDIADI | National Driving Instructor Development
REFRESH-INTERVAL;VALUE=DURATION:PT1H
X-Robots-Tag:noindex
X-PUBLISHED-TTL:PT1H
BEGIN:VTIMEZONE
TZID:Europe/London
BEGIN:DAYLIGHT
TZOFFSETFROM:+0000
TZOFFSETTO:+0100
TZNAME:BST
DTSTART:20260329T010000
END:DAYLIGHT
BEGIN:STANDARD
TZOFFSETFROM:+0100
TZOFFSETTO:+0000
TZNAME:GMT
DTSTART:20261025T010000
END:STANDARD
END:VTIMEZONE
BEGIN:VEVENT
DTSTART;TZID=Europe/London:20260603T180000
DTEND;TZID=Europe/London:20260603T200000
DTSTAMP:20260420T170439
CREATED:20260409T144709Z
LAST-MODIFIED:20260409T144927Z
UID:10000846-1780509600-1780516800@pdiadi.com
SUMMARY:Building Confidence: Learn to act on Logic\, not Emotion!
DESCRIPTION:Become the B.E.S.T. Version of Yourself \nYour Behaviors\, Emotions\, Sensations\, and Thoughts (B.E.S.T.) — and those of your learners — can be the key to achieving success or encountering setbacks. In this session\, you’ll explore how to unlock your full potential by mastering these elements. This session will delve into the process of ‘creating’ emotions. Why do so many people default to fear\, panic\, anxiety\, intimidation\, frustration\, or embarrassment\, when they could be experiencing confidence\, happiness\, and self-esteem instead? \nOnce we understand how emotions are created\, we can choose to create the emotions we desire! \nWhat You’ll Gain from This Session: \n\nInsights into how our minds work\nLearn how we ‘create’ emotions\nUnderstand the Panic Cycle\nTechniques to replace phobic self-talk (e.g.\, “I hate roundabouts\, tests\, etc.”)\nSkills to Identify and Analyse negative Behaviours\, Emotions\, Sensations\, and Thoughts\nA calming breathing exercise to control panic\nA Test Nerves Quiz for you and your learners\nBONUS: A Ten-Second Technique to help your pupils easily distinguish left from right!\nALL delegates will receive a free training manual after the session.
URL:https://pdiadi.com/event/building-confidence-learn-to-act-on-logic-not-emotion-12/
CATEGORIES:Coaching,Diane Zoom Workshop,Lesson planning,Teaching & learning strategies,Training Courses,Workshops,Zoom Training
ATTACH;FMTTYPE=image/png:https://pdiadi.com/wp-content/uploads/2026/04/Diane-Hall-Workshop-Media-2.png
ORGANIZER;CN="Diane Hall":MAILTO:info@lofaway2pass.com
LOCATION:https://pdiadi.com/event/building-confidence-learn-to-act-on-logic-not-emotion-12/
END:VEVENT
BEGIN:VEVENT
DTSTART;TZID=Europe/London:20260623T180000
DTEND;TZID=Europe/London:20260623T200000
DTSTAMP:20260420T170439
CREATED:20260419T104245Z
LAST-MODIFIED:20260419T104245Z
UID:10000854-1782237600-1782244800@pdiadi.com
SUMMARY:How We Help People Fail Driving Tests
DESCRIPTION:“I teach safe driving for life—not just to pass a test.” I hear that often. But what I see when I sit in the back of ADI/PDI lessons tells a different story. \nIn this eye-opening workshop\, I’ll share how instructors—without even realising it—can sometimes be the reason a student doesn’t pass. Yes\, even those who “should’ve nailed it” or just “got too nervous.” \nDo these sound familiar:\n\nMaking mistakes on test day that they never made in lessons\nCrumbling under pressure despite being “ready”\nBlame falling on nerves or ‘stupid mistakes’\nWe practised that so many times but they still failed for it.\n\nBut what if some of that pressure was built during training? By you?\nJoin me as we uncover:\n✅ What’s in the instructors head can lead to test-day setbacks \n✅The gap between teaching to pass a test vs. safe driving for life \n✅Tips and techniques that you can start to implement in your very next session. \nWhether you’re working with learners or PDI’s\, this workshop could change the way you see your role. \nDiscover small differences you can make for big changes. \nLet’s rethink success—together.
URL:https://pdiadi.com/event/how-we-help-people-fail-driving-tests-6/
CATEGORIES:Coaching,Lesson planning,Teaching & learning strategies,Training Courses,Workshops,Zoom Training
ATTACH;FMTTYPE=image/png:https://pdiadi.com/wp-content/uploads/2026/04/How-We-Help-People-Fail-Driving-Tests-September.png
ORGANIZER;CN="Terry Lefteri":MAILTO:terry_lefteri@hotmail.com
LOCATION:https://pdiadi.com/event/how-we-help-people-fail-driving-tests-6/
END:VEVENT
END:VCALENDAR