BEGIN:VCALENDAR
VERSION:2.0
PRODID:-//PDIADI | National Driving Instructor Development - ECPv6.2.2//NONSGML v1.0//EN
CALSCALE:GREGORIAN
METHOD:PUBLISH
X-ORIGINAL-URL:https://pdiadi.com
X-WR-CALDESC:Events for PDIADI | National Driving Instructor Development
REFRESH-INTERVAL;VALUE=DURATION:PT1H
X-Robots-Tag:noindex
X-PUBLISHED-TTL:PT1H
BEGIN:VTIMEZONE
TZID:Europe/London
BEGIN:DAYLIGHT
TZOFFSETFROM:+0000
TZOFFSETTO:+0100
TZNAME:BST
DTSTART:20230326T010000
END:DAYLIGHT
BEGIN:STANDARD
TZOFFSETFROM:+0100
TZOFFSETTO:+0000
TZNAME:GMT
DTSTART:20231029T010000
END:STANDARD
END:VTIMEZONE
BEGIN:VEVENT
DTSTART;TZID=Europe/London:20231115T170000
DTEND;TZID=Europe/London:20231115T200000
DTSTAMP:20260425T221244
CREATED:20231018T102023Z
LAST-MODIFIED:20231113T114254Z
UID:10000238-1700067600-1700078400@pdiadi.com
SUMMARY:The Masterclass Instructor Series: Beyond The Standards Check - Training in Lesson Planning
DESCRIPTION:Synopsis\nWelcome to a transformative experience designed to take your lesson-planning skills to unparalleled heights. This isn’t just about ticking boxes for your Standards Check; it’s about mastering the art of lesson planning for a lifetime of teaching safe driving. \nKey Takeaways:\nLesson Structure: Learn how lesson planning fits within a 6-step lesson structure that delivers the National Driver and Rider Standards the 17 instructor competences of Part 3 and the Standards Check assessment every lesson. \nHolistic Approach: Discover a comprehensive framework that covers not just the ‘what’ but the ‘why’ behind each lesson plan\, ensuring that you address the diverse needs and abilities of your pupils. \nCustomisation Techniques: Learn how to tailor lesson plans to individual pupils\, factoring in their unique learning styles and driving experiences. \nGoal-Setting: Understand how to set SMART goals that are not only achievable but also relevant and time-bound\, providing a clear roadmap for each lesson. \nAdaptability: Master the skill of modifying lesson plans on the fly\, so you’re always prepared to pivot according to real-time needs and situations. \nRisk Mitigation: Integrate risk management into your lesson plans\, teaching your pupils to anticipate\, recognise\, and manage potential hazards. \nEngagement Strategies: Delve into tried-and-tested methods to engage pupils actively in the learning process\, making every driving lesson a memorable experience. \nFeedback Loops: Learn the importance of immediate\, constructive feedback and how it can be seamlessly woven into your lesson plans. \nAssessment and Self-Reflection: Gain valuable insights into assessing both the pupil’s and your own performance\, for continual improvement. \nResource Utilisation: Tips on how to make the best use of educational resources for more effective lessons. \nBest Practices: Conclude with a roundup of best practices\, case studies\, and next steps to continue your journey toward becoming a master instructor. \nThis half day session is more than a training programme; it’s an investment in your journey to becoming the best driving instructor you can be\, one perfectly crafted lesson at a time. \nAs well as this session\, check out my other courses in this Masterclass Instructor Series:- \nBeyond The Standards Check\, Training in Risk Management \nBeyond The Standards Check\, Teaching and Learning Strategies \n***Special Offer Book all 3 and get a FREE 1-hour 1:2:1 Coaching and Mentoring CPD Session with Ray Seagrave (Limited Spaces) *** \nPlaces for all courses are limited so you get more individual attention but they do sell out fast! \nSo book early to secure your place and your FREE 1:2:1 personal CPD training session with Ray
URL:https://pdiadi.com/event/the-masterclass-instructor-series-beyond-the-standards-check-training-in-lesson-planning/
CATEGORIES:ADI Development,Client Centred Learning,Coaching,Lesson planning,PDI Training,Standards Check & Part 3 Training,Workshops,Zoom Training
ATTACH;FMTTYPE=image/png:https://pdiadi.com/wp-content/uploads/2023/09/Ray-Masterclass-1-1.png
ORGANIZER;CN="Ray Seagrave":MAILTO:completedrivertraining@gmail.com
LOCATION:https://us02web.zoom.us/j/85487153114
END:VEVENT
BEGIN:VEVENT
DTSTART;TZID=Europe/London:20231109T190000
DTEND;TZID=Europe/London:20231130T210000
DTSTAMP:20260425T221244
CREATED:20231031T150735Z
LAST-MODIFIED:20231101T112312Z
UID:10000255-1699556400-1701378000@pdiadi.com
SUMMARY:SuCcess KIT
DESCRIPTION:This is an online course spread over 4 consecutive Thursdays and will be delivered by Mick Knowles. \n\n\n\n\n\n\n\n\nThe workshop will be held on 9th  16th\, 23rd and 30th November 2023. \nYour SuCcess KIT is a four module course that looks at the the 5 main reasons why ADIs and PDIs fail their Standards Check or Part 3.\nWe take an indepth look at the 5 competencies. Explain what they mean\, how they fit into the SC/P3\, where they link into other competencies and how you can ensure that they are covered in your sessions\, not just the SC/P3 but every session you carry out! \nWeek 1. Was the lesson plan adapted\, when appropriate\, to help the pupil work towards their learning goals? \nWeek 2. Was the teaching style suited to the pupil’s learning style and current ability? \nWeek 3. Was the pupil encouraged to analyse problems and take responsibility for their learning? \nWeek 4. Was the pupil given appropriate and timely feedback during the session and was sufficient feedback given to help the pupil understand any potential safety critical incidents? \n\n\n\n\n\n\n\nThe £99 price is for all 4 sessions
URL:https://pdiadi.com/event/success-kit/
CATEGORIES:ADI Development,Classroom Training,Client Centred Learning,Coaching,Lesson planning,Standards Check & Part 3 Training,Training Courses,Workshops,Zoom Training
ATTACH;FMTTYPE=image/png:https://pdiadi.com/wp-content/uploads/2023/08/CPD-Provider-of-the-Year-Knowledgeablee-Instructor-Training.png
ORGANIZER;CN="Mick Knowles &amp%3B Lee Jowett":MAILTO:enquiries@adikit.co.uk,mick@adikit.co.uk,lee@adikit.co.uk
LOCATION:https://pdiadi.com/event/success-kit/
END:VEVENT
BEGIN:VEVENT
DTSTART;TZID=Europe/London:20231106T180000
DTEND;TZID=Europe/London:20231106T200000
DTSTAMP:20260425T221244
CREATED:20230911T143831Z
LAST-MODIFIED:20231023T080151Z
UID:10000234-1699293600-1699300800@pdiadi.com
SUMMARY:How does Risk Management Affect Your Standard Check or Part 3 Grade?
DESCRIPTION:Risk management has an influence on the other competencies for the Standards Check. \nScoring 1 or less in any of the sections in the risk management section\, will have a knock-on effect to the other sections. During this session\, I’ll be discussing how the minor competencies link together\, demonstrating how small changes can upgrade your score to improve your overall mark. \nI’ll be developing understanding of the skills required to move your final grade from a B to an A. \nExplain how the feel of the sessions is important in assessing the overall performance & how to create a safe teaching environment has a direct influence in the final score. \nDeveloping the instructor’s observations skills\, which could also include how it feels\, what it looks like or how calm the event is will often help create a safe teaching environment.  \nFive takes outs delegates will get from this session:  \n\nHow the risk management competencies link to the others\nWhat the examiner is looking for\nGiving a great customer experience to the driver & passenger\nThe reason for the journey\nHow & when to prepare for your assessment
URL:https://pdiadi.com/event/how-does-risk-management-affect-your-standard-check-or-part-3-grade/
CATEGORIES:ADI Development,Client Centred Learning,Coaching,Lesson planning,PDI Training,Risk management,Standards Check & Part 3 Training,Training Courses,Zoom Training
ATTACH;FMTTYPE=image/jpeg:https://pdiadi.com/wp-content/uploads/2023/09/AL-Brand.jpg
ORGANIZER;CN="Andrew Love":MAILTO:andrew@lidiaondemand.co.uk
LOCATION:https://us02web.zoom.us/j/82261827247
END:VEVENT
BEGIN:VEVENT
DTSTART;TZID=Europe/London:20231031T100000
DTEND;TZID=Europe/London:20231031T160000
DTSTAMP:20260425T221244
CREATED:20230831T194959Z
LAST-MODIFIED:20231023T080323Z
UID:10000163-1698746400-1698768000@pdiadi.com
SUMMARY:Standards Check and Part Three
DESCRIPTION:This is a certificated Zoom Workshop delivered by Bob Morton \nThis Standards Check/Part 3 exam workshops help you deliver up to date\, focused\, goal driven\, client centred lessons\, using simple strategies that have a proven track record. These strategies will also prepare you for your Standards Check or Part Three exam by making sure we meet the competencies you are being assessed on and making sure through proper preparation and understanding that it is the real you who shows up on the day. A Course covering Standards check and Part three exam.\nThe course will look in detail at:\n• The changes to the exam (45 mins with 40 mins wheels rolling)\n• The trigger system and how to do your own monitoring\n• Which pupil to take\n• Which lesson to do\n• How to get non-compliant pupils to engage\n• How to structure lessons that are more client centred\n• How to work in ways that meet the criteria for the assessment\n• How to make practice areas work for you\nYou will develop ways of working that not only enhance lessons for you and the pupil\, getting more out of each session but will ensure you work in ways that mean you CAN just turn up and do your normal lesson.
URL:https://pdiadi.com/event/standards-check-and-part-three/
CATEGORIES:ADI Development,Classroom Training,Client Centred Learning,Coaching,Lesson planning,PDI Training,Risk management,Standards Check & Part 3 Training,Teaching & learning strategies,Training Courses,Workshops
ATTACH;FMTTYPE=image/png:https://pdiadi.com/wp-content/uploads/2023/08/Standards-check-and-Part-three.png
ORGANIZER;CN="Bob Morton ADI ORDIT":MAILTO:bob@clientcentredlearning.co.uk
LOCATION:https://us02web.zoom.us/j/81890662626
END:VEVENT
BEGIN:VEVENT
DTSTART;TZID=Europe/London:20231004T190000
DTEND;TZID=Europe/London:20231025T210000
DTSTAMP:20260425T221244
CREATED:20230901T170012Z
LAST-MODIFIED:20230914T141931Z
UID:10000166-1696446000-1698267600@pdiadi.com
SUMMARY:Skills For Coaching Online Workshop
DESCRIPTION:About this Event\nThis is a certificated Zoom workshop and is 4 sessions held over 4 weeks.\nDelivered by Lee Jowett from KIT \nIf you want to develop your coaching and Client Centred Learning skills\, from the comfort of your own home\, then look no further.\nThis four-module course will introduce coaching to you and help you to understand the purpose of coaching\, explore coaching vs client-centred learning\, take a look at where instruction fits into coaching and develop skills and techniques to help you to develop your coaching skills and deliver great Client Centred lessons. \nOver the four modules\, you will begin to understand When and Why to coach and what coaching really is.\nHow to use different coaching approaches effectively and efficiently to help your pupils develop holistically. The course will help you to understand where Coaching fits into Client Centred Learning and why the DVSA use the term CCL rather than coaching. We also take a look at Instruction and Coaching\, where the two paths meet\, and when instruction is essential to client-centred learning.\nUltimately at the end of the four-module workshop\, you should have the knowledge and understanding\, as well as teaching tools to help you to improve your delivery of great CCL lessons and help your pupils’ own ability to evaluate and self-evaluate. These are the skills that will keep them safer on the roads post-test. \nDates for these Zoom sessions are 4th/11th/18th/25th October and run from 7pm to 9pm.
URL:https://pdiadi.com/event/skills-for-coaching-online-workshop/
CATEGORIES:ADI Development,Classroom Training,Client Centred Learning,Coaching,Lesson planning,Standards Check & Part 3 Training,Training Courses,Workshops,Zoom Training
ATTACH;FMTTYPE=image/png:https://pdiadi.com/wp-content/uploads/2023/08/CPD-Provider-of-the-Year-Knowledgeablee-Instructor-Training.png
ORGANIZER;CN="Mick Knowles &amp%3B Lee Jowett":MAILTO:enquiries@adikit.co.uk,mick@adikit.co.uk,lee@adikit.co.uk
LOCATION:https://pdiadi.com/event/skills-for-coaching-online-workshop/
END:VEVENT
BEGIN:VEVENT
DTSTART;TZID=Europe/London:20230912T083000
DTEND;TZID=Europe/London:20230912T163000
DTSTAMP:20260425T221244
CREATED:20230830T090740Z
LAST-MODIFIED:20230830T115145Z
UID:10000161-1694507400-1694536200@pdiadi.com
SUMMARY:BANBURY CCL & STANDARDS CHECK WORKSHOP
DESCRIPTION:Mick Knowles and Lee Jowett are bringing you their in person Client Centered Learning and Standards Check Workshop.\n\nThey will cover what exactly CCL is and the 17 Standards Check competencies in detail\, giving you models to use in your everyday training sessions that will cover the competencies.\nThis means that when it comes to your SC or Part 3 you will be better prepared for it.\nNot only that\, but every lesson you give\, the learner will be getting value for money and learning will take place. \nVenue: \nJubilee Park\,\nBarley Cl\,\nBloxham\,\nBanbury\nOX15 4LW \n\n\nIan Haskell\n2023-08-20\nI attended the CCL & Standards Check Workshop this year in St Helens\nand it was a very enlightening course. Definitely recommended \n\n\n\nJohn Hughes \n2023-08-20\n\n\n\nAs an ORDIT trainer I would recommend the CCL & Standards Check Workshop \n\n\nPaul Wing \n2023-08-20\n\n\n\nHighly recommend the CCL & Standards Check Workshop I went to one in Stoke Mick Knowles and Lee Jowett opened my eyes up to the information they provided about standards check and part 3.\nOur group consisted of Pdi and Adi and both parties benefited from that day.
URL:https://pdiadi.com/event/banbury-ccl-standards-check-workshop/
LOCATION:Jubilee Park\, Barley Cl\, Bloxham\, Banbury OX15 4LW\, Jubilee Park\, Barley Cl\, Bloxham\,\, Banbury\, East Midlands\, OX15 4LW
CATEGORIES:ADI Development,Classroom Training,Client Centred Learning,Lesson planning,PDI Training,Risk management,Standards Check & Part 3 Training,Teaching & learning strategies,Workshops
ATTACH;FMTTYPE=image/png:https://pdiadi.com/wp-content/uploads/2023/08/CPD-Provider-of-the-Year-Knowledgeablee-Instructor-Training.png
ORGANIZER;CN="Mick Knowles &amp%3B Lee Jowett":MAILTO:enquiries@adikit.co.uk,mick@adikit.co.uk,lee@adikit.co.uk
END:VEVENT
END:VCALENDAR